BEGIN:VCALENDAR
VERSION:2.0
PRODID:-//IMNS - ECPv5.16.4//NONSGML v1.0//EN
CALSCALE:GREGORIAN
METHOD:PUBLISH
X-WR-CALNAME:IMNS
X-ORIGINAL-URL:https://imns.pl
X-WR-CALDESC:Events for IMNS
BEGIN:VTIMEZONE
TZID:Europe/Warsaw
BEGIN:DAYLIGHT
TZOFFSETFROM:+0100
TZOFFSETTO:+0200
TZNAME:CEST
DTSTART:20250330T010000
END:DAYLIGHT
BEGIN:STANDARD
TZOFFSETFROM:+0200
TZOFFSETTO:+0100
TZNAME:CET
DTSTART:20251026T010000
END:STANDARD
END:VTIMEZONE
BEGIN:VEVENT
DTSTART;TZID=Europe/Warsaw:20250521T100000
DTEND;TZID=Europe/Warsaw:20250521T110000
DTSTAMP:20260420T061253
CREATED:20250428T060016Z
LAST-MODIFIED:20250630T125523Z
UID:4379-1747821600-1747825200@imns.pl
SUMMARY:Webinar: Spełnienie wymagań NIS2 w zakresie dostępu uprzywilejowanego
DESCRIPTION:IMNS Polska zaprasza na bezpłatny webinar dotyczący spełniania wymagań NIS2 w kontekście kontroli dostępu i zarządzania uprawnieniami. \nNIS2 wprowadza nowe obowiązki dla sektorów kluczowych i ważnych oraz znacząco poszerza sektory objęte tą regulacją. Celem NIS2 jest osiągniecie wysokiego poziomu cyberbezpieczeństwa. \nRozwiązania klasy PAM pozwalają spełnić wymagania stawiane przez NIS2 m.in. w obszarach bezpieczeństwa łańcucha dostaw\, cyberhigieny i kontroli dostępu oraz uwierzytelniania wielopoziomowego. \nPodczas spotkania pokażemy przykładowe scenariusze zastosowań PAM-a w kontekście NIS 2.
URL:https://imns.pl/akademia/webinar-pam-250521/
LOCATION:Sesja zdalna Webex
CATEGORIES:Szkolenia techniczne
ORGANIZER;CN="IMNS":MAILTO:imns@imns.pl
END:VEVENT
END:VCALENDAR