BEGIN:VCALENDAR
VERSION:2.0
PRODID:-//IMNS - ECPv5.16.4//NONSGML v1.0//EN
CALSCALE:GREGORIAN
METHOD:PUBLISH
X-WR-CALNAME:IMNS
X-ORIGINAL-URL:https://imns.pl
X-WR-CALDESC:Events for IMNS
BEGIN:VTIMEZONE
TZID:Europe/Warsaw
BEGIN:DAYLIGHT
TZOFFSETFROM:+0100
TZOFFSETTO:+0200
TZNAME:CEST
DTSTART:20240331T010000
END:DAYLIGHT
BEGIN:STANDARD
TZOFFSETFROM:+0200
TZOFFSETTO:+0100
TZNAME:CET
DTSTART:20241027T010000
END:STANDARD
END:VTIMEZONE
BEGIN:VEVENT
DTSTART;TZID=Europe/Warsaw:20241107T100000
DTEND;TZID=Europe/Warsaw:20241107T110000
DTSTAMP:20260423T161011
CREATED:20241030T070016Z
LAST-MODIFIED:20241030T070016Z
UID:22202-1730973600-1730977200@imns.pl
SUMMARY:Webinar: Spełnienie wymagań NIS2 i DORA w kontekście kontroli dostępu i zarządzania uprawnieniami
DESCRIPTION:IMNS Polska zaprasza na bezpłatny webinar dotyczący spełniania wymagań NIS2 i DORA w kontekście kontroli dostępu i zarządzania uprawnieniami. \nNIS2 wprowadza nowe obowiązki dla sektorów kluczowych i ważnych oraz znacząco poszerza sektory objęte tą regulacją. Celem NIS2 jest osiągniecie wysokiego poziomu cyberbezpieczeństwa. Podobny cel stawia DORA\, czyli osiągnięcie wysokiego poziomu operacyjnej odporności cyfrowej. \nRozwiązania klasy PAM pozwalają spełniać wymagania stawiane przez NIS2 i DORA m.in. cyberhigieny\, kontroli dostępu\, uwierzytelniania wielopoziomowego oraz identyfikowania procesów i połączeń związanych z zewnętrznymi dostawcami usług.
URL:https://imns.pl/akademia/webinar-pam-241107-2/
LOCATION:Sesja zdalna Webex
CATEGORIES:Szkolenia techniczne
ORGANIZER;CN="IMNS":MAILTO:imns@imns.pl
END:VEVENT
END:VCALENDAR