BEGIN:VCALENDAR
VERSION:2.0
PRODID:-//IMNS - ECPv5.16.4//NONSGML v1.0//EN
CALSCALE:GREGORIAN
METHOD:PUBLISH
X-WR-CALNAME:IMNS
X-ORIGINAL-URL:https://imns.pl
X-WR-CALDESC:Events for IMNS
BEGIN:VTIMEZONE
TZID:Europe/Warsaw
BEGIN:DAYLIGHT
TZOFFSETFROM:+0100
TZOFFSETTO:+0200
TZNAME:CEST
DTSTART:20230326T010000
END:DAYLIGHT
BEGIN:STANDARD
TZOFFSETFROM:+0200
TZOFFSETTO:+0100
TZNAME:CET
DTSTART:20231029T010000
END:STANDARD
END:VTIMEZONE
BEGIN:VEVENT
DTSTART;TZID=Europe/Warsaw:20231114T100000
DTEND;TZID=Europe/Warsaw:20231114T110000
DTSTAMP:20260423T124228
CREATED:20231027T070016Z
LAST-MODIFIED:20231027T070016Z
UID:21143-1699956000-1699959600@imns.pl
SUMMARY:Webinar: Dobre praktyki w zarządzaniu ryzykiem i podatnościami w systemach informatycznych.
DESCRIPTION:Posiadanie kontroli nad stanem podatności technicznych i konfiguracji środowiska teleinformatycznego\, wpływających istotnie na zarządzanie ryzykiem cybernetycznym\, to konieczność wynikająca zarówno ze zdrowego rozsądku\, jak i z wymagań regulacyjnych. \nJuż wkrótce znowelizowana ustawa o Krajowym Systemie Cyberbezpieczeństwa wprowadzi szereg wymagań organizacyjnych i technicznych w tym zakresie\, które w szczególności będę wymagane od Operatorów Usług Kluczowych. \nZapraszamy na kolejny webinar\, podczas którego powiemy więcej o podatnościach technicznych w systemach informatycznych oraz jak sobie z nimi radzić. \nPodczas webinarium zaprezentujemy podstawowe praktyki\, jakimi należy się kierować\, aby poradzić sobie z wyzwaniem jakim jest zarządzanie podatnościami oprogramowania oraz serwisów internetowych\, zgodnie z wymaganiami znanych regulacji. \nNasi konsultanci\, wykorzystując platformę Qualys\, zaprezentują poszczególne kroki procesu\, poparte prezentacją przykładowych danych. \nDowiemy się w jaki sposób zautomatyzować proces zarządzania podatnościami\, łącznie z aplikacją poprawek bezpieczeństwa. \nZaprezentowany przez nas proces można zaimplementować i utrzymywać samodzielnie lub też z pomocą naszych konsultantów w formie usługi SOC. \nDowiedz się więcej o architekturze Qualys (materiał w języku polskim): https://imns.pl/qualys_info/qualys-vmdr/
URL:https://imns.pl/akademia/web-qg-vm-231114-2/
LOCATION:Sesja zdalna Webex
CATEGORIES:Szkolenia techniczne
ORGANIZER;CN="IMNS":MAILTO:imns@imns.pl
END:VEVENT
END:VCALENDAR