BEGIN:VCALENDAR
VERSION:2.0
PRODID:-//IMNS - ECPv5.16.4//NONSGML v1.0//EN
CALSCALE:GREGORIAN
METHOD:PUBLISH
X-WR-CALNAME:IMNS
X-ORIGINAL-URL:https://imns.pl
X-WR-CALDESC:Events for IMNS
BEGIN:VTIMEZONE
TZID:Europe/Warsaw
BEGIN:DAYLIGHT
TZOFFSETFROM:+0100
TZOFFSETTO:+0200
TZNAME:CEST
DTSTART:20250330T010000
END:DAYLIGHT
BEGIN:STANDARD
TZOFFSETFROM:+0200
TZOFFSETTO:+0100
TZNAME:CET
DTSTART:20251026T010000
END:STANDARD
END:VTIMEZONE
BEGIN:VEVENT
DTSTART;TZID=Europe/Warsaw:20250624T100000
DTEND;TZID=Europe/Warsaw:20250624T110000
DTSTAMP:20260420T041814
CREATED:20250616T060016Z
LAST-MODIFIED:20250616T060016Z
UID:23024-1750759200-1750762800@imns.pl
SUMMARY:Webinar: Cyberbezpieczeństwo w praktyce - przykłady zastosowania Qualys do usuwania ryzyk z infrastruktury IT
DESCRIPTION:W obliczu wszechobecnych i niemal codziennie pojawiających się podatności (cyberryzyk) w systemach ICT\, wyzwaniem staje się nie tylko ich szybka identyfikacja i priorytetyzacja (co usuwać w pierwszej kolejność)\, ale przede wszystkim sprawne ich usuwanie. \nZapraszamy do udziału w prezentacji on-line w formie warsztatów\, podczas których konsultanci IMNS na konkretnych przykładach zaprezentują zastosowanie funkcjonalności Qualys do usuwania podatności\, niezwłocznie po ich zidentyfikowaniu w infrastrukturze IT. \nPodczas warsztatów zaprezentujemy między innymi: jak usuwać podatności w sposób zautomatyzowany\, jak wykorzystać wewnętrzne repozytorium do instalacji patch’y oraz przykładowe rozwiązania niestandardowych podatności. \n 
URL:https://imns.pl/akademia/web-qg-pm-250624-2/
LOCATION:Sesja zdalna Webex
CATEGORIES:Szkolenia techniczne
ORGANIZER;CN="IMNS":MAILTO:imns@imns.pl
END:VEVENT
END:VCALENDAR