BEGIN:VCALENDAR
VERSION:2.0
PRODID:-//IMNS - ECPv5.16.4//NONSGML v1.0//EN
CALSCALE:GREGORIAN
METHOD:PUBLISH
X-WR-CALNAME:IMNS
X-ORIGINAL-URL:https://imns.pl
X-WR-CALDESC:Events for IMNS
BEGIN:VTIMEZONE
TZID:Europe/Warsaw
BEGIN:DAYLIGHT
TZOFFSETFROM:+0100
TZOFFSETTO:+0200
TZNAME:CEST
DTSTART:20230326T010000
END:DAYLIGHT
BEGIN:STANDARD
TZOFFSETFROM:+0200
TZOFFSETTO:+0100
TZNAME:CET
DTSTART:20231029T010000
END:STANDARD
END:VTIMEZONE
BEGIN:VEVENT
DTSTART;TZID=Europe/Warsaw:20231116T100000
DTEND;TZID=Europe/Warsaw:20231116T103000
DTSTAMP:20260423T140826
CREATED:20230711T060006Z
LAST-MODIFIED:20230711T060006Z
UID:21193-1700128800-1700130600@imns.pl
SUMMARY:Webinarium: Poznaj nowości w nVision 15
DESCRIPTION:IMNS Polska zaprasza na bezpłatne webinarium poświęcone nowym funkcjonalnościom oprogramowania Axence nVision\, wprowadzonym z wersją 15. Nowa wersja oprogramowania nVision wprowadza zmiany w module HelpDesk\, DataGuard i Users oraz w AdminCenter. \nZapraszamy!
URL:https://imns.pl/akademia/web-nvision-231116-2/
LOCATION:Sesja zdalna Webex
END:VEVENT
END:VCALENDAR