BEGIN:VCALENDAR
VERSION:2.0
PRODID:-//IMNS - ECPv5.16.4//NONSGML v1.0//EN
CALSCALE:GREGORIAN
METHOD:PUBLISH
X-WR-CALNAME:IMNS
X-ORIGINAL-URL:https://imns.pl
X-WR-CALDESC:Events for IMNS
BEGIN:VTIMEZONE
TZID:Europe/Warsaw
BEGIN:DAYLIGHT
TZOFFSETFROM:+0100
TZOFFSETTO:+0200
TZNAME:CEST
DTSTART:20210328T010000
END:DAYLIGHT
BEGIN:STANDARD
TZOFFSETFROM:+0200
TZOFFSETTO:+0100
TZNAME:CET
DTSTART:20211031T010000
END:STANDARD
END:VTIMEZONE
BEGIN:VEVENT
DTSTART;TZID=Europe/Warsaw:20210714T100000
DTEND;TZID=Europe/Warsaw:20210714T110000
DTSTAMP:20260419T211316
CREATED:20210708T070006Z
LAST-MODIFIED:20210708T070006Z
UID:11804-1626256800-1626260400@imns.pl
SUMMARY:Webinar: Poznaj nowości w nVision 12.5
DESCRIPTION:IMNS Polska zaprasza na bezpłatne webinarium poświęcone nowym funkcjonalnościom oprogramowania Axence nVision wprowadzonym z wersją 12.5. \nZapraszamy!
URL:https://imns.pl/akademia/web-nvision-210714-2/
LOCATION:Sesja zdalna Webex
END:VEVENT
END:VCALENDAR