BEGIN:VCALENDAR
VERSION:2.0
PRODID:-//IMNS - ECPv5.16.4//NONSGML v1.0//EN
CALSCALE:GREGORIAN
METHOD:PUBLISH
X-WR-CALNAME:IMNS
X-ORIGINAL-URL:https://imns.pl
X-WR-CALDESC:Events for IMNS
BEGIN:VTIMEZONE
TZID:Europe/Warsaw
BEGIN:DAYLIGHT
TZOFFSETFROM:+0100
TZOFFSETTO:+0200
TZNAME:CEST
DTSTART:20240331T010000
END:DAYLIGHT
BEGIN:STANDARD
TZOFFSETFROM:+0200
TZOFFSETTO:+0100
TZNAME:CET
DTSTART:20241027T010000
END:STANDARD
END:VTIMEZONE
BEGIN:VEVENT
DTSTART;TZID=Europe/Warsaw:20240117T100000
DTEND;TZID=Europe/Warsaw:20240117T110000
DTSTAMP:20260424T004153
CREATED:20221228T080006Z
LAST-MODIFIED:20221228T080006Z
UID:21547-1705485600-1705489200@imns.pl
SUMMARY:Webinar: Nowe funkcjonalności w rozwiązaniu AnRisk.
DESCRIPTION:IMNS Polska zaprasza na bezpłatne webinarium\, które ma za zadanie zapoznać z nowymi funkcjami programu AnRisk. Więcej o naszym rozwiązaniu dowiesz się z serwisu anrisk.pl .
URL:https://imns.pl/akademia/web-anrisk-240117-3/
LOCATION:Sesja zdalna Webex
END:VEVENT
END:VCALENDAR