BEGIN:VCALENDAR
VERSION:2.0
PRODID:-//IMNS - ECPv5.16.4//NONSGML v1.0//EN
CALSCALE:GREGORIAN
METHOD:PUBLISH
X-WR-CALNAME:IMNS
X-ORIGINAL-URL:https://imns.pl
X-WR-CALDESC:Events for IMNS
BEGIN:VTIMEZONE
TZID:Europe/Warsaw
BEGIN:DAYLIGHT
TZOFFSETFROM:+0100
TZOFFSETTO:+0200
TZNAME:CEST
DTSTART:20250330T010000
END:DAYLIGHT
BEGIN:STANDARD
TZOFFSETFROM:+0200
TZOFFSETTO:+0100
TZNAME:CET
DTSTART:20251026T010000
END:STANDARD
END:VTIMEZONE
BEGIN:VEVENT
DTSTART;TZID=Europe/Warsaw:20250415T100000
DTEND;TZID=Europe/Warsaw:20250415T110000
DTSTAMP:20260420T062852
CREATED:20250328T080016Z
LAST-MODIFIED:20250328T083805Z
UID:19891-1744711200-1744714800@imns.pl
SUMMARY:Webinar: Automatyzacja monitorowania bezpieczeństwa serwisów internetowych za pomocą Qualys TotalAppSec
DESCRIPTION:Dołącz do nas na webinarium\, aby dowiedzieć się jak\, w sposób zautomatyzowany\, wyszukiwać podatności w aplikacjach internetowych oraz interfejsach API. Podczas spotkania nasi konsultanci zaprezentują dobre praktyki w zakresie testów automatycznych serwisów internetowych\, na przykładzie rozwiązania Qualys TotalAppSec. \nPoczytaj więcej o bezpieczeństwie serwisów internetowych: https://imns.pl/blog-kategorie/bezp-aplikacji/ \n 
URL:https://imns.pl/akademia/warsztaty-qg-tas-250415/
LOCATION:Sesja zdalna Webex
CATEGORIES:Szkolenia techniczne
ORGANIZER;CN="IMNS":MAILTO:imns@imns.pl
END:VEVENT
END:VCALENDAR