BEGIN:VCALENDAR
VERSION:2.0
PRODID:-//IMNS - ECPv5.16.4//NONSGML v1.0//EN
CALSCALE:GREGORIAN
METHOD:PUBLISH
X-WR-CALNAME:IMNS
X-ORIGINAL-URL:https://imns.pl
X-WR-CALDESC:Events for IMNS
BEGIN:VTIMEZONE
TZID:Europe/Warsaw
BEGIN:DAYLIGHT
TZOFFSETFROM:+0100
TZOFFSETTO:+0200
TZNAME:CEST
DTSTART:20270328T010000
END:DAYLIGHT
BEGIN:STANDARD
TZOFFSETFROM:+0200
TZOFFSETTO:+0100
TZNAME:CET
DTSTART:20271031T010000
END:STANDARD
BEGIN:DAYLIGHT
TZOFFSETFROM:+0100
TZOFFSETTO:+0200
TZNAME:CEST
DTSTART:20280326T010000
END:DAYLIGHT
BEGIN:STANDARD
TZOFFSETFROM:+0200
TZOFFSETTO:+0100
TZNAME:CET
DTSTART:20281029T010000
END:STANDARD
BEGIN:DAYLIGHT
TZOFFSETFROM:+0100
TZOFFSETTO:+0200
TZNAME:CEST
DTSTART:20290325T010000
END:DAYLIGHT
BEGIN:STANDARD
TZOFFSETFROM:+0200
TZOFFSETTO:+0100
TZNAME:CET
DTSTART:20291028T010000
END:STANDARD
END:VTIMEZONE
BEGIN:VEVENT
DTSTART;TZID=Europe/Warsaw:20270211T084500
DTEND;TZID=Europe/Warsaw:20290211T153000
DTSTAMP:20260424T011438
CREATED:20190108T100016Z
LAST-MODIFIED:20200224T124820Z
UID:4072-1802335500-1865518200@imns.pl
SUMMARY:Certyfikowane warsztaty techniczne z zakresu konfiguracji i zarządzania platformą Qualys.
DESCRIPTION:Szkolenie skierowane jest do użytkowników platformy Qualys\, którzy chcą pogłębić posiadaną wiedzę z zakresu administracji i konfiguracji oraz przygotować się do testów egzaminacyjnych. Uczestnicy uzyskują wiedzę niezbędną do efektywnego wykorzystania narzędzi Qualys. \nUdział w warsztatach dostarczy wiedzy\, która pozwali administratorowi na: \n– zarządzanie uprawnieniami użytkowników w obrębie subskrypcji\,\n– wdrożenie skanera w sieci lokalnej\,\n– instalacje sensorów na stacjach roboczych i serwerach\,\n– zarządzanie hostami w subskrypcji\,\n– tworzenie czytelnej struktury organizacji hostów\,\n– mapowanie urządzeń sieciowych\,\n– konfigurację parametrów skanowania\,\n– tworzenie harmonogramów skanowania\,\n– dostosowywanie treści raportów do odbiorcy\,\n– tworzenie kwerend flirtujących hosty i podatności\,\n– tworzenie dashboardów na podstawie kwerend do bazy. \nForma:\nUczestnicy mają dostęp do subskrypcji szkoleniowej oraz realizują ćwiczenia zgodnie z programem szkolenia. \nLokalizacja:\nBiuro IMNS we Wrocławiu lub w Warszawie. \nCzas trwania:\n3 dni w godzinach 9:00- 17:00 \nCena za udział w szkoleniu:\n3200 netto osobę.
URL:https://imns.pl/akademia/2763-q/
CATEGORIES:Szkolenia techniczne
ORGANIZER;CN="IMNS":MAILTO:imns@imns.pl
END:VEVENT
END:VCALENDAR