BEGIN:VCALENDAR
VERSION:2.0
PRODID:-//IMNS - ECPv5.16.4//NONSGML v1.0//EN
CALSCALE:GREGORIAN
METHOD:PUBLISH
X-WR-CALNAME:IMNS
X-ORIGINAL-URL:https://imns.pl
X-WR-CALDESC:Events for IMNS
BEGIN:VTIMEZONE
TZID:Europe/Warsaw
BEGIN:DAYLIGHT
TZOFFSETFROM:+0100
TZOFFSETTO:+0200
TZNAME:CEST
DTSTART:20260329T010000
END:DAYLIGHT
BEGIN:STANDARD
TZOFFSETFROM:+0200
TZOFFSETTO:+0100
TZNAME:CET
DTSTART:20261025T010000
END:STANDARD
END:VTIMEZONE
BEGIN:VEVENT
DTSTART;TZID=Europe/Warsaw:20260218T100000
DTEND;TZID=Europe/Warsaw:20260218T110000
DTSTAMP:20260421T150300
CREATED:20260127T070006Z
LAST-MODIFIED:20260203T141925Z
UID:22004-1771408800-1771412400@imns.pl
SUMMARY:Webinar: Zarządzanie uprawnieniami z wykorzystaniem aplikacji AnRisk moduł Uprawnienia
DESCRIPTION:Zapraszamy do udziału w prezentacji\, podczas której zaprezentujemy najnowszy moduł aplikacji AnRisk Uprawnienia\, wspierający proces zarządzania uprawnieniami. \nMając na uwadze\, poparty doświadczeniem audytowym fakt\, iż jednym z trudniejszym do okiełznania obszarów jest zarządzanie uprawnieniami do zasobów informacyjnych\, wzbogaciliśmy AnRisk o  moduł Uprawnienia. Dzięki AnRisk Uprawnienia można w dowolnej chwili przeprowadzić kontrolę nadanych uprawnień od strony formalnej i operacyjnej. \n \nWięcej o aplikacji AnRisk dowiesz się z serwisu anrisk.pl. \nDzięki wdrożeniu Anrisk Uprawnienia można między innymi: \n\nzorganizować elektroniczny obieg nadawania uprawnień\,\nsformalizować nadawanie uprawnień do systemów informatycznych\,\nrejestrować wszystkie faktycznie nadane uprawnienia\,\nidentyfikować ryzyka związane z nadanymi uprawnieniami\,\nprzeprowadzać cykliczne kontrole nadanych uprawnień.
URL:https://imns.pl/akademia/web-anrisk-u-260218/
LOCATION:Sesja zdalna Webex
END:VEVENT
END:VCALENDAR