BEGIN:VCALENDAR
VERSION:2.0
PRODID:-//IMNS - ECPv5.16.4//NONSGML v1.0//EN
CALSCALE:GREGORIAN
METHOD:PUBLISH
X-WR-CALNAME:IMNS
X-ORIGINAL-URL:https://imns.pl
X-WR-CALDESC:Events for IMNS
BEGIN:VTIMEZONE
TZID:Europe/Warsaw
BEGIN:DAYLIGHT
TZOFFSETFROM:+0100
TZOFFSETTO:+0200
TZNAME:CEST
DTSTART:20250330T010000
END:DAYLIGHT
BEGIN:STANDARD
TZOFFSETFROM:+0200
TZOFFSETTO:+0100
TZNAME:CET
DTSTART:20251026T010000
END:STANDARD
END:VTIMEZONE
BEGIN:VEVENT
DTSTART;TZID=Europe/Warsaw:20251202T100000
DTEND;TZID=Europe/Warsaw:20251202T110000
DTSTAMP:20260419T165342
CREATED:20251022T060016Z
LAST-MODIFIED:20251125T093040Z
UID:23056-1764669600-1764673200@imns.pl
SUMMARY:Proaktywne zarządzanie cyberbezpieczeństwem z BitSight (SPM\, EASM\, CTI)
DESCRIPTION:Zapraszamy na webinarium dotyczące kompleksowego zarządzania cyberbezpieczeństwem w oparciu o platformę Bitsight oraz przejścia od reaktywnego do proaktywnego podejścia do cyberbezpieczeństwa.  \n\nOmówimy zarządzanie wydajnością bezpieczeństwa własnego (Security Performance Management – SPM)\, aby stale mierzyć i poprawiać własną pozycję bezpieczeństwa.\nPokażemy\, jak zarządzać zewnętrzną powierzchnią ataku (External Attack Surface Management – EASM) oraz jak identyfikować i usuwać luki w zabezpieczeniach zewnętrznej powierzchni ataku.\nPokażemy\, również w jaki sposób Bitsight Cyber Threat Intelligence (CTI) dostarcza praktycznych informacji\, pozwalających wyprzedzić zagrożenia.\n\n  \nWebinar będzie prowadzony w języku angielskim. \n  \n 
URL:https://imns.pl/akademia/web-bs-251202/
LOCATION:Sesja zdalna Webex
CATEGORIES:Szkolenia techniczne
ORGANIZER;CN="IMNS":MAILTO:imns@imns.pl
END:VEVENT
END:VCALENDAR