BEGIN:VCALENDAR
VERSION:2.0
PRODID:-//IMNS - ECPv5.16.4//NONSGML v1.0//EN
CALSCALE:GREGORIAN
METHOD:PUBLISH
X-WR-CALNAME:IMNS
X-ORIGINAL-URL:https://imns.pl
X-WR-CALDESC:Events for IMNS
BEGIN:VTIMEZONE
TZID:Europe/Warsaw
BEGIN:DAYLIGHT
TZOFFSETFROM:+0100
TZOFFSETTO:+0200
TZNAME:CEST
DTSTART:20250330T010000
END:DAYLIGHT
BEGIN:STANDARD
TZOFFSETFROM:+0200
TZOFFSETTO:+0100
TZNAME:CET
DTSTART:20251026T010000
END:STANDARD
END:VTIMEZONE
BEGIN:VEVENT
DTSTART;TZID=Europe/Warsaw:20250626T100000
DTEND;TZID=Europe/Warsaw:20250626T110000
DTSTAMP:20260420T022756
CREATED:20250611T060006Z
LAST-MODIFIED:20250611T060006Z
UID:22436-1750932000-1750935600@imns.pl
SUMMARY:Webinar: Budowanie cyberodporności użytkowników na zagrożenia socjotechniczne i popularne manipulacje (PHISHING)
DESCRIPTION:Czy Twoja organizacja jest gotowa na coraz bardziej wyrafinowane ataki socjotechniczne i manipulacje? Czy wiesz\, że liczba incydentów phisingowych corocznie znacząco wzrasta\, a pomysłowość przestępców wspierana jest teraz przez sztuczną inteligencję?\nCelem mogą być Twoi pracownicy\, jeśli nie zostaną odpowiednio przeszkoleni\, a wskaźnik odporności na takie ataki można znacząco poprawić – wystarczy wdrożyć skuteczny program budowania świadomości. \nZapraszamy Cię na praktyczny webinar\, podczas którego: \n\nPoznasz różne techniki manipulacji wykorzystywane przez cyberprzestępców.\nDowiesz się\, jak skutecznie szkolić pracowników\, by stali się ostatnią\, najskuteczniejszą linią obrony.\nZobaczysz\, jak działa platforma firmy KnowBe4 – lidera w zakresie edukacji i symulacji phishingu.\n\nInformacje o rozwiązania znajdziecie Państwo na stronie https://knowbe4.imns.pl. \nZapraszamy!
URL:https://imns.pl/akademia/web-kb4-250626-2/
LOCATION:Sesja zdalna Webex
CATEGORIES:Szkolenia techniczne
END:VEVENT
END:VCALENDAR