BEGIN:VCALENDAR
VERSION:2.0
PRODID:-//IMNS - ECPv5.16.4//NONSGML v1.0//EN
CALSCALE:GREGORIAN
METHOD:PUBLISH
X-WR-CALNAME:IMNS
X-ORIGINAL-URL:https://imns.pl
X-WR-CALDESC:Events for IMNS
BEGIN:VTIMEZONE
TZID:Europe/Warsaw
BEGIN:DAYLIGHT
TZOFFSETFROM:+0100
TZOFFSETTO:+0200
TZNAME:CEST
DTSTART:20250330T010000
END:DAYLIGHT
BEGIN:STANDARD
TZOFFSETFROM:+0200
TZOFFSETTO:+0100
TZNAME:CET
DTSTART:20251026T010000
END:STANDARD
END:VTIMEZONE
BEGIN:VEVENT
DTSTART;TZID=Europe/Warsaw:20250612T100000
DTEND;TZID=Europe/Warsaw:20250612T120000
DTSTAMP:20260420T022715
CREATED:20250521T070006Z
LAST-MODIFIED:20250521T070006Z
UID:22415-1749722400-1749729600@imns.pl
SUMMARY:Webinar: Strategia Cyberbezpiecznego Wodociągu
DESCRIPTION:W dobie rosnących zagrożeń cyfrowych i coraz bardziej rygorystycznych regulacji\, bezpieczeństwo infrastruktury krytycznej – w tym systemów wodociągowych – staje się priorytetem strategicznym. Dyrektywa NIS2 oraz normy takie jak ISO 27001 wyznaczają standardy\, które wymagają od operatorów nie tylko zgodności\, ale i realnej odporności na cyberataki. \nZapraszamy na praktyczny i inspirujący webinar\, podczas którego nasi eksperci przedstawią kompleksowe podejście do budowy strategii cyberbezpieczeństwa w przedsiębiorstwach wodociągowych. Dowiesz się\, jak skutecznie wdrażać środki organizacyjne i techniczne\, zarządzać ryzykiem oraz rozwijać kompetencje zespołu – wszystko w zgodzie z aktualnymi regulacjami i najlepszymi praktykami. \nDlaczego warto wziąć udział? \n\nZdobędziesz aktualną wiedzę o elementach strategii Cyberbezpiecznego Wodociągu i zgodnością z NIS2.\nPoznasz narzędzia i metody\, które realnie zwiększają odporność organizacji w wymiarze organizacyjnym.\nOtrzymasz praktyczne wskazówki\, jak przygotować swoją infrastrukturę na nowe wyzwania.\nWymienisz się doświadczeniami z innymi uczestnikami i ekspertami.\n\nNie czekaj\, zadbaj o cyberbezpieczeństwo swojej organizacji wodociągowej już dziś! \nZarejestruj się i dołącz do grona liderów cyfrowej transformacji w sektorze wodociągowym.
URL:https://imns.pl/akademia/web-wod-250612-2/
LOCATION:Sesja zdalna Webex
END:VEVENT
END:VCALENDAR