BEGIN:VCALENDAR
VERSION:2.0
PRODID:-//IMNS - ECPv5.16.4//NONSGML v1.0//EN
CALSCALE:GREGORIAN
METHOD:PUBLISH
X-WR-CALNAME:IMNS
X-ORIGINAL-URL:https://imns.pl
X-WR-CALDESC:Events for IMNS
BEGIN:VTIMEZONE
TZID:Europe/Warsaw
BEGIN:DAYLIGHT
TZOFFSETFROM:+0100
TZOFFSETTO:+0200
TZNAME:CEST
DTSTART:20250330T010000
END:DAYLIGHT
BEGIN:STANDARD
TZOFFSETFROM:+0200
TZOFFSETTO:+0100
TZNAME:CET
DTSTART:20251026T010000
END:STANDARD
END:VTIMEZONE
BEGIN:VEVENT
DTSTART;TZID=Europe/Warsaw:20250529T090000
DTEND;TZID=Europe/Warsaw:20250529T150000
DTSTAMP:20260420T041552
CREATED:20250515T060016Z
LAST-MODIFIED:20250515T060016Z
UID:22701-1748509200-1748530800@imns.pl
SUMMARY:Warsztaty: Praktyczne wykorzystanie oprogramowania Axence nVision
DESCRIPTION:Szkolenie skierowane jest do administratorów\, którzy posiadają już oprogramowanie firmy Axence.\nUdział w warsztatach dostarczy wiedzy\, która pozwoli administratorowi na: \n\nusprawnienie zarządzania bezpieczeństwem w organizacji\,\nsamodzielne i skuteczne przeprowadzanie audytów legalności oprogramowania\, bez ponoszenia dodatkowych kosztów\,\nszybką diagnozę i usuwanie problemów w sieci\,\noptymalizację obciążenia firmowych łącz\, dzięki szybkiej lokalizacji stacji\, które generują największy ruch w sieci LAN/WAN\,\nzmniejszenie podatności danych firmowych na nieautoryzowane kopiowanie i ich wyciek.\n\nCertyfikat: uczestnicy otrzymują imienny certyfikat potwierdzający udział w szkoleniu \nCzas trwania szkolenia: 6 godzin (1 dzień) \nCena szkolenia: 1190 PLN netto/os. \nSzkolenie prowadzenie jest w formie zdalnych warsztatów. Każdy z uczestników powinien posiadać komputer z dostępem do internetu oraz dwóch monitorów.\nW czasie szkolenia przewidziane są krótkie przerwy co 1 godzinę oraz jedna dłuższa przerwa na lunch.
URL:https://imns.pl/akademia/nvs-250529-2/
LOCATION:Sesja zdalna Webex
CATEGORIES:Szkolenia techniczne
ORGANIZER;CN="IMNS":MAILTO:imns@imns.pl
END:VEVENT
END:VCALENDAR