BEGIN:VCALENDAR
VERSION:2.0
PRODID:-//IMNS - ECPv5.16.4//NONSGML v1.0//EN
CALSCALE:GREGORIAN
METHOD:PUBLISH
X-WR-CALNAME:IMNS
X-ORIGINAL-URL:https://imns.pl
X-WR-CALDESC:Events for IMNS
BEGIN:VTIMEZONE
TZID:Europe/Warsaw
BEGIN:DAYLIGHT
TZOFFSETFROM:+0100
TZOFFSETTO:+0200
TZNAME:CEST
DTSTART:20250330T010000
END:DAYLIGHT
BEGIN:STANDARD
TZOFFSETFROM:+0200
TZOFFSETTO:+0100
TZNAME:CET
DTSTART:20251026T010000
END:STANDARD
END:VTIMEZONE
BEGIN:VEVENT
DTSTART;TZID=Europe/Warsaw:20250522T100000
DTEND;TZID=Europe/Warsaw:20250522T110000
DTSTAMP:20260420T041403
CREATED:20250507T060006Z
LAST-MODIFIED:20250507T130254Z
UID:22197-1747908000-1747911600@imns.pl
SUMMARY:Cykl webinarów: AnRisk cz.3 - Audyty
DESCRIPTION:Zapraszamy do udziału w webinarze\, podczas którego zaprezentujemy najnowszy moduł rozwiązania AnRisk. \nModuł Anrisk Audyty wspiera kompleksowy proces audytu w organizacjach regulowanych i korporacyjnych. Umożliwia tworzenie\, przeprowadzanie i raportowanie audytów w sposób zgodny z wewnętrznymi oraz zewnętrznymi wymaganiami regulacyjnymi. \nKluczowe funkcjonalności modułu: \n\nTworzenie szablonów regulacyjnych.\nBudowanie metodyki audytu.\nPrzeprowadzanie audytów przez wielu audytorów.\nUłatwienia podczas prowadzenia audytu.\nMonitorowanie postępu audytu.\nWymiana informacji off-line.\nRealizacja raportów równolegle w wielu podmiotach.\nGenerowanie raportów.\n\nWebinar zakończymy panelem dyskusyjnym\, podczas którego odpowiemy na pytania związane z wdrożeniem i utrzymaniem procesu analizy ryzyka.\nZapraszamy do rejestracji. \nWięcej o naszym rozwiązaniu dowiesz się z serwisu anrisk.pl . \n 
URL:https://imns.pl/akademia/web-anrisk-a-250522/
LOCATION:Sesja zdalna Webex
END:VEVENT
END:VCALENDAR